BEGIN:VCALENDAR
VERSION:2.0
PRODID:-//eventon.com NONSGML v1.0//EN
CALSCALE:GREGORIAN
METHOD:PUBLISH
BEGIN:VEVENT
UID:69eb1e9d33166
DTSTAMP:20260424T074117Z
DTSTART:20250130T183000Z
DTEND:20250130T203000Z
LOCATION:Feuerwache Coesfeld\,  Rottkamp 15 Feuerwache Coesfeld\,  Rottkamp 15
SUMMARY:Dienst I. u. K.
DESCRIPTION:Dienstabend I. u. K. &#8211; EinheitFunktionsübung ELW2 / Arbe
 itsplatz- und MaterialkonzeptKompletter Ausbildungsplan im Mitgliederbereic
 h unter Bekanntmachungen\nhttps://www.feuerwehr-coesfeld.de/events/dienst-
 i-u-k/
URL:https://www.feuerwehr-coesfeld.de/events/dienst-i-u-k/
END:VEVENT
END:VCALENDAR