BEGIN:VCALENDAR
VERSION:2.0
PRODID:-//eventon.com NONSGML v1.0//EN
CALSCALE:GREGORIAN
METHOD:PUBLISH
BEGIN:VEVENT
UID:69e709b5dea49
DTSTAMP:20260421T052301Z
DTSTART:20250505T173000Z
DTEND:20250505T193000Z
LOCATION:Feuerwache Rottkamp 15\,  Coesfeld Feuerwache Rottkamp 15\,  Coesfeld
SUMMARY:Dienst Zug 2
DESCRIPTION:Dienstabend Zug 2 Technische Hilfeleistung an Großfahrzeugen K
 ompletter Ausbildungsplan auf der HP unter Aktuelles\nhttps://www.feuerwehr
 -coesfeld.de/events/dienst-zug-2-39/
URL:https://www.feuerwehr-coesfeld.de/events/dienst-zug-2-39/
END:VEVENT
END:VCALENDAR