BEGIN:VCALENDAR
VERSION:2.0
PRODID:-//eventon.com NONSGML v1.0//EN
CALSCALE:GREGORIAN
METHOD:PUBLISH
BEGIN:VEVENT
UID:69e8c1f89b21f
DTSTAMP:20260422T124128Z
DTSTART:20251201T183000Z
DTEND:20251201T203000Z
LOCATION:Feuerwache Rottkamp 15\,  Coesfeld Feuerwache Rottkamp 15\,  Coesfeld
SUMMARY:Dienst Zug 2
DESCRIPTION:Dienstabend Zug 2 UVV + Kraftfahrerbelehrung Kompletter Ausbild
 ungsplan auf der HP unter Aktuelles\nhttps://www.feuerwehr-coesfeld.de/even
 ts/dienst-zug-2-61/
URL:https://www.feuerwehr-coesfeld.de/events/dienst-zug-2-61/
END:VEVENT
END:VCALENDAR