BEGIN:VCALENDAR
VERSION:2.0
PRODID:-//eventon.com NONSGML v1.0//EN
CALSCALE:GREGORIAN
METHOD:PUBLISH
BEGIN:VEVENT
UID:69e6698d53269
DTSTAMP:20260420T175941Z
DTSTART:20251008T173000Z
DTEND:20251008T193000Z
LOCATION:Florianstr. 5\,  Coesfeld-Lette Florianstr. 5\,  Coesfeld-Lette
SUMMARY:So.-Dienst Zug  3
DESCRIPTION:Dienstabend Löschzug 3 Sonderdienst für Maschinisten und Fahr
 zeugführer Maschinisten\,  Kraftfahrerausbildung\,  Fahrzeugüberprüfunge
 n Kompletter Ausbildungsplan auf der HP unter Aktuelles\nhttps://www.feuerw
 ehr-coesfeld.de/events/so-dienst-zug-3-22/
URL:https://www.feuerwehr-coesfeld.de/events/so-dienst-zug-3-22/
END:VEVENT
END:VCALENDAR