BEGIN:VCALENDAR
VERSION:2.0
PRODID:-//eventon.com NONSGML v1.0//EN
CALSCALE:GREGORIAN
METHOD:PUBLISH
BEGIN:VEVENT
UID:69ea6b19a184f
DTSTAMP:20260423T185521Z
DTSTART:20250314T173000Z
DTEND:20250314T190000Z
LOCATION:Feuerwache Coesfeld\,  Rottkamp 15 Feuerwache Coesfeld\,  Rottkamp 15
SUMMARY:Dienst JF
DESCRIPTION:Dienstabend der Jugendfeuerwehr Chaosspiel Kompletter Ausbildun
 gsplan im Mitgliederbereich unter Bekanntmachungen\nhttps://www.feuerwehr-
 coesfeld.de/events/dienst-jf-53/
URL:https://www.feuerwehr-coesfeld.de/events/dienst-jf-53/
END:VEVENT
END:VCALENDAR