BEGIN:VCALENDAR
VERSION:2.0
PRODID:-//eventon.com NONSGML v1.0//EN
CALSCALE:GREGORIAN
METHOD:PUBLISH
BEGIN:VEVENT
UID:69ece50897be2
DTSTAMP:20260425T160008Z
DTSTART:20251128T183000Z
DTEND:20251128T223000Z
LOCATION:Hauptwache Rottkamp Rottkamp 15\,  48653 Coesfeld
SUMMARY:GV Zug 1
DESCRIPTION:Generalversammlung des Löschzuges 1 in Dienstanzug mit weißem
  Hemd für Aktive und Ehrenabteilung Feuerwache Rottkamp\nhttps://www.feuer
 wehr-coesfeld.de/events/gv-zug-1-copy/
URL:https://www.feuerwehr-coesfeld.de/events/gv-zug-1-copy/
END:VEVENT
END:VCALENDAR